BEGIN:VCALENDAR
VERSION:2.0
PRODID:-//ADVB SC - ECPv6.15.16.1//NONSGML v1.0//EN
CALSCALE:GREGORIAN
METHOD:PUBLISH
X-WR-CALNAME:ADVB SC
X-ORIGINAL-URL:https://advbsc.com.br
X-WR-CALDESC:Eventos para ADVB SC
REFRESH-INTERVAL;VALUE=DURATION:PT1H
X-Robots-Tag:noindex
X-PUBLISHED-TTL:PT1H
BEGIN:VTIMEZONE
TZID:America/Sao_Paulo
BEGIN:STANDARD
TZOFFSETFROM:-0300
TZOFFSETTO:-0300
TZNAME:-03
DTSTART:20250101T000000
END:STANDARD
END:VTIMEZONE
BEGIN:VEVENT
DTSTART;TZID=America/Sao_Paulo:20260610T190000
DTEND;TZID=America/Sao_Paulo:20260610T230000
DTSTAMP:20260423T155415
CREATED:20260322T181811Z
LAST-MODIFIED:20260322T181811Z
UID:33818-1781118000-1781132400@advbsc.com.br
SUMMARY:Cerimônia Prêmio Empresa Cidadã
DESCRIPTION:
URL:https://advbsc.com.br/agenda/cerimonia-premio-empresa-cidada/
LOCATION:Chapecó
END:VEVENT
BEGIN:VEVENT
DTSTART;TZID=America/Sao_Paulo:20260615T190000
DTEND;TZID=America/Sao_Paulo:20260615T203000
DTSTAMP:20260423T155415
CREATED:20260322T182420Z
LAST-MODIFIED:20260322T182420Z
UID:33823-1781550000-1781555400@advbsc.com.br
SUMMARY:Academy ADVB FURB
DESCRIPTION:
URL:https://advbsc.com.br/agenda/academy-advb-furb/
LOCATION:Universidade Regional de Blumenau – FURB\, R. Antônio da Veiga\, 140 - Itoupava Seca\, Blumenau\, SC\, Brazil
END:VEVENT
END:VCALENDAR