BEGIN:VCALENDAR
VERSION:2.0
PRODID:-//ADVB SC - ECPv6.15.16.1//NONSGML v1.0//EN
CALSCALE:GREGORIAN
METHOD:PUBLISH
X-WR-CALNAME:ADVB SC
X-ORIGINAL-URL:https://advbsc.com.br
X-WR-CALDESC:Eventos para ADVB SC
REFRESH-INTERVAL;VALUE=DURATION:PT1H
X-Robots-Tag:noindex
X-PUBLISHED-TTL:PT1H
BEGIN:VTIMEZONE
TZID:America/Sao_Paulo
BEGIN:STANDARD
TZOFFSETFROM:-0300
TZOFFSETTO:-0300
TZNAME:-03
DTSTART:20250101T000000
END:STANDARD
END:VTIMEZONE
BEGIN:VEVENT
DTSTART;TZID=America/Sao_Paulo:20260507T190000
DTEND;TZID=America/Sao_Paulo:20260507T203000
DTSTAMP:20260423T141859
CREATED:20260322T182112Z
LAST-MODIFIED:20260322T182112Z
UID:33821-1778180400-1778185800@advbsc.com.br
SUMMARY:Academy ADVB UNICESUSC
DESCRIPTION:
URL:https://advbsc.com.br/agenda/academy-advb-unicesusc/
LOCATION:UNICESUSC – Florianópolis\, Florianópolis\, Santa Catarina\, Brazil
END:VEVENT
END:VCALENDAR