BEGIN:VCALENDAR
VERSION:2.0
PRODID:-//ADVB SC - ECPv6.15.16.1//NONSGML v1.0//EN
CALSCALE:GREGORIAN
METHOD:PUBLISH
X-ORIGINAL-URL:https://advbsc.com.br
X-WR-CALDESC:Eventos para ADVB SC
REFRESH-INTERVAL;VALUE=DURATION:PT1H
X-Robots-Tag:noindex
X-PUBLISHED-TTL:PT1H
BEGIN:VTIMEZONE
TZID:America/Sao_Paulo
BEGIN:STANDARD
TZOFFSETFROM:-0300
TZOFFSETTO:-0300
TZNAME:-03
DTSTART:20250101T000000
END:STANDARD
END:VTIMEZONE
BEGIN:VEVENT
DTSTART;TZID=America/Sao_Paulo:20260312T190000
DTEND;TZID=America/Sao_Paulo:20260312T233000
DTSTAMP:20260423T142048
CREATED:20260212T180940Z
LAST-MODIFIED:20260302T180857Z
UID:33745-1773342000-1773358200@advbsc.com.br
SUMMARY:Posse do Conselho e Diretoria 2026/2027
DESCRIPTION:Evento exclusivo para convidados
URL:https://advbsc.com.br/agenda/posse-do-conselho-e-diretoria-2026-2027/
LOCATION:FIESC – Florianópolis\, FIESC\, Florianópolis\, SC\, Brazil
ATTACH;FMTTYPE=image/png:https://advbsc.com.br/wp-content/uploads/2026/02/Banner-1440x791_v3.png
END:VEVENT
END:VCALENDAR