BEGIN:VCALENDAR
VERSION:2.0
PRODID:-//ADVB SC - ECPv6.15.20//NONSGML v1.0//EN
CALSCALE:GREGORIAN
METHOD:PUBLISH
X-WR-CALNAME:ADVB SC
X-ORIGINAL-URL:https://advbsc.com.br
X-WR-CALDESC:Eventos para ADVB SC
REFRESH-INTERVAL;VALUE=DURATION:PT1H
X-Robots-Tag:noindex
X-PUBLISHED-TTL:PT1H
BEGIN:VTIMEZONE
TZID:America/Sao_Paulo
BEGIN:STANDARD
TZOFFSETFROM:-0300
TZOFFSETTO:-0300
TZNAME:-03
DTSTART:20240101T000000
END:STANDARD
END:VTIMEZONE
BEGIN:VEVENT
DTSTART;TZID=America/Sao_Paulo:20250815T093000
DTEND;TZID=America/Sao_Paulo:20250815T120000
DTSTAMP:20260425T132700
CREATED:20250721T151758Z
LAST-MODIFIED:20251124T192040Z
UID:32768-1755250200-1755259200@advbsc.com.br
SUMMARY:Encontro de Ideias ADVB / FIESC
DESCRIPTION:Dia 15 de agosto\, na FIESC em Florianópolis\, Daniel Scioli\, Ministro de Turismo\, Meio Ambiente e Esportes da Argentina guiará uma palestra especial sobre o tema: “A Indústria do Turismo Bilateral entre Argentina e Santa Catarina e as possíveis parcerias com o Trade”\, \nPainel com Topázio Silveira Neto\, Prefeito de Florianópolis\, Vinicius Lummertz – Ex Ministro do Turismo do Brasil\, Catiane Seif\, Secretária de Turismo do Estado de Santa Catarina e mediação de Paulo Bornhausen\, Secretário Executivo de Articulação Internacional e Projetos Estratégicos do Estado de Santa Catarina.
URL:https://advbsc.com.br/agenda/encontro-de-ideias-advb-fiesc/
LOCATION:Florianópolis\, Florianópolis\, Santa Catarina\, Brazil
ATTACH;FMTTYPE=image/png:https://advbsc.com.br/wp-content/uploads/2025/07/EI_Argentina_BannerHome1440x791px_VM-1.png
END:VEVENT
END:VCALENDAR