BEGIN:VCALENDAR
VERSION:2.0
PRODID:-//ADVB SC - ECPv6.15.20//NONSGML v1.0//EN
CALSCALE:GREGORIAN
METHOD:PUBLISH
X-ORIGINAL-URL:https://advbsc.com.br
X-WR-CALDESC:Eventos para ADVB SC
REFRESH-INTERVAL;VALUE=DURATION:PT1H
X-Robots-Tag:noindex
X-PUBLISHED-TTL:PT1H
BEGIN:VTIMEZONE
TZID:America/Sao_Paulo
BEGIN:STANDARD
TZOFFSETFROM:-0300
TZOFFSETTO:-0300
TZNAME:-03
DTSTART:20240101T000000
END:STANDARD
END:VTIMEZONE
BEGIN:VEVENT
DTSTART;TZID=America/Sao_Paulo:20250617T000000
DTEND;TZID=America/Sao_Paulo:20250617T000000
DTSTAMP:20260425T164759
CREATED:20250721T151137Z
LAST-MODIFIED:20251124T192151Z
UID:32762-1750118400-1750118400@advbsc.com.br
SUMMARY:Encontro de Ideias Blumenau
DESCRIPTION:
URL:https://advbsc.com.br/agenda/encontro-de-ideias-blumenau/
LOCATION:Blumenau\, Blumenau\, Santa Catarina\, Brazil
END:VEVENT
END:VCALENDAR