BEGIN:VCALENDAR
VERSION:2.0
PRODID:-//ADVB SC - ECPv6.15.20//NONSGML v1.0//EN
CALSCALE:GREGORIAN
METHOD:PUBLISH
X-ORIGINAL-URL:https://advbsc.com.br
X-WR-CALDESC:Eventos para ADVB SC
REFRESH-INTERVAL;VALUE=DURATION:PT1H
X-Robots-Tag:noindex
X-PUBLISHED-TTL:PT1H
BEGIN:VTIMEZONE
TZID:America/Sao_Paulo
BEGIN:STANDARD
TZOFFSETFROM:-0300
TZOFFSETTO:-0300
TZNAME:-03
DTSTART:20250101T000000
END:STANDARD
END:VTIMEZONE
BEGIN:VEVENT
DTSTART;VALUE=DATE:20260930
DTEND;VALUE=DATE:20261001
DTSTAMP:20260425T130956
CREATED:20260424T154804Z
LAST-MODIFIED:20260424T154858Z
UID:33918-1790726400-1790812799@advbsc.com.br
SUMMARY:Encerramento das inscrições de cases Prêmio Top de Marketing e Vendas
DESCRIPTION:
URL:https://advbsc.com.br/agenda/encerramento-das-inscricoes-de-cases-premio-top-de-marketing-e-vendas/
END:VEVENT
BEGIN:VEVENT
DTSTART;TZID=America/Sao_Paulo:20261029T190000
DTEND;TZID=America/Sao_Paulo:20261029T230000
DTSTAMP:20260425T130956
CREATED:20260322T182715Z
LAST-MODIFIED:20260322T182715Z
UID:33828-1793300400-1793314800@advbsc.com.br
SUMMARY:Cerimônia Prêmio Top de Marketing e Vendas
DESCRIPTION:
URL:https://advbsc.com.br/agenda/cerimonia-premio-top-de-marketing-e-vendas/
LOCATION:Florianópolis\, Florianópolis\, Santa Catarina\, Brazil
END:VEVENT
BEGIN:VEVENT
DTSTART;TZID=America/Sao_Paulo:20261029T190000
DTEND;TZID=America/Sao_Paulo:20261029T233000
DTSTAMP:20260425T130956
CREATED:20260322T182814Z
LAST-MODIFIED:20260322T183435Z
UID:33830-1793300400-1793316600@advbsc.com.br
SUMMARY:Cerimônia Prêmio Antunes Severo
DESCRIPTION:
URL:https://advbsc.com.br/agenda/cerimonia-premio-antunes-severo/
LOCATION:Florianópolis\, Florianópolis\, Santa Catarina\, Brazil
END:VEVENT
END:VCALENDAR