BEGIN:VCALENDAR
VERSION:2.0
PRODID:-//ADVB SC - ECPv6.15.16.1//NONSGML v1.0//EN
CALSCALE:GREGORIAN
METHOD:PUBLISH
X-WR-CALNAME:ADVB SC
X-ORIGINAL-URL:https://advbsc.com.br
X-WR-CALDESC:Eventos para ADVB SC
REFRESH-INTERVAL;VALUE=DURATION:PT1H
X-Robots-Tag:noindex
X-PUBLISHED-TTL:PT1H
BEGIN:VTIMEZONE
TZID:America/Sao_Paulo
BEGIN:STANDARD
TZOFFSETFROM:-0300
TZOFFSETTO:-0300
TZNAME:-03
DTSTART:20240101T000000
END:STANDARD
END:VTIMEZONE
BEGIN:VEVENT
DTSTART;TZID=America/Sao_Paulo:20260414T090000
DTEND;TZID=America/Sao_Paulo:20260414T103000
DTSTAMP:20260423T131047
CREATED:20260401T144432Z
LAST-MODIFIED:20260401T144432Z
UID:33852-1776157200-1776162600@advbsc.com.br
SUMMARY:Download SXSW 2026
DESCRIPTION:
URL:https://advbsc.com.br/agenda/download-sxsw-2026/
LOCATION:Cinesystem\, Beiramar Shopping\, R. Bocaiúva\, 2468 - Centro\, Florianópolis\, SC\, Brazil
END:VEVENT
BEGIN:VEVENT
DTSTART;TZID=America/Sao_Paulo:20260407T190000
DTEND;TZID=America/Sao_Paulo:20260407T203000
DTSTAMP:20260423T131047
CREATED:20260322T173852Z
LAST-MODIFIED:20260322T174108Z
UID:33814-1775588400-1775593800@advbsc.com.br
SUMMARY:Academy ADVB Unisul
DESCRIPTION:
URL:https://advbsc.com.br/agenda/academy-advb-unisul/
LOCATION:Unisul Florianópolis\, R. Antônio Dib Mussi\, 366 - Centro\, Florianópolis\, SC
ATTACH;FMTTYPE=image/png:https://advbsc.com.br/wp-content/uploads/2026/03/Sympla_Academy_Unisul.png
END:VEVENT
BEGIN:VEVENT
DTSTART;TZID=America/Sao_Paulo:20260312T190000
DTEND;TZID=America/Sao_Paulo:20260312T233000
DTSTAMP:20260423T131047
CREATED:20260212T180940Z
LAST-MODIFIED:20260302T180857Z
UID:33745-1773342000-1773358200@advbsc.com.br
SUMMARY:Posse do Conselho e Diretoria 2026/2027
DESCRIPTION:Evento exclusivo para convidados
URL:https://advbsc.com.br/agenda/posse-do-conselho-e-diretoria-2026-2027/
LOCATION:FIESC – Florianópolis\, FIESC\, Florianópolis\, SC\, Brazil
ATTACH;FMTTYPE=image/png:https://advbsc.com.br/wp-content/uploads/2026/02/Banner-1440x791_v3.png
END:VEVENT
BEGIN:VEVENT
DTSTART;TZID=America/Sao_Paulo:20251111T190000
DTEND;TZID=America/Sao_Paulo:20251111T233000
DTSTAMP:20260423T131047
CREATED:20250721T152311Z
LAST-MODIFIED:20251028T135619Z
UID:32780-1762887600-1762903800@advbsc.com.br
SUMMARY:Prêmio Top de Marketing e Vendas
DESCRIPTION:
URL:https://advbsc.com.br/agenda/premio-top-de-marketing-e-vendas/
LOCATION:Florianópolis\, Florianópolis\, Santa Catarina\, Brazil
ATTACH;FMTTYPE=image/png:https://advbsc.com.br/wp-content/uploads/2025/07/Top_Mkt_ADVB25_Agenda.png
END:VEVENT
BEGIN:VEVENT
DTSTART;TZID=America/Sao_Paulo:20251111T190000
DTEND;TZID=America/Sao_Paulo:20251111T230000
DTSTAMP:20260423T131047
CREATED:20250721T152404Z
LAST-MODIFIED:20251028T135720Z
UID:32782-1762887600-1762902000@advbsc.com.br
SUMMARY:Prêmio Antunes Severo
DESCRIPTION:
URL:https://advbsc.com.br/agenda/premio-antunes-severo/
LOCATION:Florianópolis\, Florianópolis\, Santa Catarina\, Brazil
ATTACH;FMTTYPE=image/png:https://advbsc.com.br/wp-content/uploads/2025/07/AS25_Agenda.png
END:VEVENT
BEGIN:VEVENT
DTSTART;TZID=America/Sao_Paulo:20251030T190000
DTEND;TZID=America/Sao_Paulo:20251030T223000
DTSTAMP:20260423T131047
CREATED:20251023T171850Z
LAST-MODIFIED:20251028T145223Z
UID:33451-1761850800-1761863400@advbsc.com.br
SUMMARY:Troféu Beto Carrero e Top Turismo ADVB
DESCRIPTION:
URL:https://advbsc.com.br/agenda/trofeu-beto-carrero-e-top-turismo-advb/
LOCATION:Parque Beto Carrero\, SC\, Brazil
ATTACH;FMTTYPE=image/png:https://advbsc.com.br/wp-content/uploads/2025/10/TopTur25_siteAGENDA_452x3022.png
END:VEVENT
BEGIN:VEVENT
DTSTART;TZID=America/Sao_Paulo:20251029T190000
DTEND;TZID=America/Sao_Paulo:20251029T210000
DTSTAMP:20260423T131047
CREATED:20250721T152155Z
LAST-MODIFIED:20251124T191532Z
UID:32777-1761764400-1761771600@advbsc.com.br
SUMMARY:ADVB Academy
DESCRIPTION:
URL:https://advbsc.com.br/agenda/advb-academy-3/
LOCATION:UNIVALI – Itajaí\, Itajaí\, Santa Catarina\, Brazil
ATTACH;FMTTYPE=image/png:https://advbsc.com.br/wp-content/uploads/2025/07/ADVBAcademy_Agenda_453x302-1.png
END:VEVENT
BEGIN:VEVENT
DTSTART;TZID=America/Sao_Paulo:20250916T000000
DTEND;TZID=America/Sao_Paulo:20250916T000000
DTSTAMP:20260423T131047
CREATED:20250721T152033Z
LAST-MODIFIED:20251124T191652Z
UID:32774-1757980800-1757980800@advbsc.com.br
SUMMARY:Encontro de Ideias Navegantes
DESCRIPTION:No dia 16 de setembro\, a ADVB promove mais uma edição do Encontro de Ideias\, desta vez em Navegantes\, trazendo ao debate como a mobilidade se tornou elemento essencial para impulsionar a competitividade e o desenvolvimento estadual. \nO painel contará com a participação de lideranças do setor público e privado: \n– Beto Martins – Secretário de Estado de Portos\, Aeroportos e Ferrovias\n– Dilvo Casagranda – Diretor de Mercado Externo Auroracoop\n– Jaylon Cordeiro – Diretor Executivo do CIM-AMFRI\n– Liba Fronza – Prefeito de Navegantes\n– Osmari de Castilho Ribas\, Diretor-Superintendente Administrativo Portonave \nMediação: Karin Verzbickas\, Jornalista e Diretora de Imprensa da ADVB
URL:https://advbsc.com.br/agenda/encontro-de-ideias-navegantes/
LOCATION:CIC – Navegantes\, Navegantes\, Santa Catarina\, Brazil
ATTACH;FMTTYPE=image/png:https://advbsc.com.br/wp-content/uploads/2025/07/EI_Navegantes_Agenda.png
END:VEVENT
BEGIN:VEVENT
DTSTART;TZID=America/Sao_Paulo:20250908T191500
DTEND;TZID=America/Sao_Paulo:20250908T210000
DTSTAMP:20260423T131047
CREATED:20250721T151921Z
LAST-MODIFIED:20251124T191812Z
UID:32771-1757358900-1757365200@advbsc.com.br
SUMMARY:ADVB Academy UNICESUSC
DESCRIPTION:Com foco em temas relevantes da comunicação\, publicidade e marketing\, o evento reúne profissionais experientes e estudantes universitários em um espaço de troca\, aprendizado e inspiração\, por meio da apresentação de cases de sucesso de agências e empresas\, o Academy ADVB/SC estimula a discussão sobre os desafios e as inovações do setor\, promovendo insights valiosos para quem já atua e para quem está se preparando para entrar no mercado. Além de ampliar o networking\, a iniciativa fortalece a conexão entre teoria e prática\, contribuindo para a formação de profissionais mais preparados\, criativos e atualizados. \nPalestrantes\n– Aldo Pasqualini\, Diretor de Marketing da Unifique e vencedor Prêmio Antunes Severo 2024\n– Melina Costa\, Diretora da Trends Content e Diretora de Comunicação da ADVB/SC\n– Oberdan Vilain Junior\, Diretor executivo do Grupo JAN
URL:https://advbsc.com.br/agenda/advb-academy-2/
LOCATION:UNICESUSC – Florianópolis\, Florianópolis\, Santa Catarina\, Brazil
ATTACH;FMTTYPE=image/png:https://advbsc.com.br/wp-content/uploads/2025/07/ADVBAcademy_Agenda_453x302-1.png
END:VEVENT
BEGIN:VEVENT
DTSTART;TZID=America/Sao_Paulo:20250815T093000
DTEND;TZID=America/Sao_Paulo:20250815T120000
DTSTAMP:20260423T131047
CREATED:20250721T151758Z
LAST-MODIFIED:20251124T192040Z
UID:32768-1755250200-1755259200@advbsc.com.br
SUMMARY:Encontro de Ideias ADVB / FIESC
DESCRIPTION:Dia 15 de agosto\, na FIESC em Florianópolis\, Daniel Scioli\, Ministro de Turismo\, Meio Ambiente e Esportes da Argentina guiará uma palestra especial sobre o tema: “A Indústria do Turismo Bilateral entre Argentina e Santa Catarina e as possíveis parcerias com o Trade”\, \nPainel com Topázio Silveira Neto\, Prefeito de Florianópolis\, Vinicius Lummertz – Ex Ministro do Turismo do Brasil\, Catiane Seif\, Secretária de Turismo do Estado de Santa Catarina e mediação de Paulo Bornhausen\, Secretário Executivo de Articulação Internacional e Projetos Estratégicos do Estado de Santa Catarina.
URL:https://advbsc.com.br/agenda/encontro-de-ideias-advb-fiesc/
LOCATION:Florianópolis\, Florianópolis\, Santa Catarina\, Brazil
ATTACH;FMTTYPE=image/png:https://advbsc.com.br/wp-content/uploads/2025/07/EI_Argentina_BannerHome1440x791px_VM-1.png
END:VEVENT
BEGIN:VEVENT
DTSTART;TZID=America/Sao_Paulo:20250701T000000
DTEND;TZID=America/Sao_Paulo:20250701T000000
DTSTAMP:20260423T131047
CREATED:20250721T151433Z
LAST-MODIFIED:20251124T192116Z
UID:32765-1751328000-1751328000@advbsc.com.br
SUMMARY:Cerimônia do Prêmio Empresa Cidadã
DESCRIPTION:
URL:https://advbsc.com.br/agenda/cerimonia-do-premio-empresa-cidada/
LOCATION:Jaraguá do Sul\, Jaraguá do Sul\, Santa Catarina\, Brazil
END:VEVENT
BEGIN:VEVENT
DTSTART;TZID=America/Sao_Paulo:20250617T000000
DTEND;TZID=America/Sao_Paulo:20250617T000000
DTSTAMP:20260423T131047
CREATED:20250721T151137Z
LAST-MODIFIED:20251124T192151Z
UID:32762-1750118400-1750118400@advbsc.com.br
SUMMARY:Encontro de Ideias Blumenau
DESCRIPTION:
URL:https://advbsc.com.br/agenda/encontro-de-ideias-blumenau/
LOCATION:Blumenau\, Blumenau\, Santa Catarina\, Brazil
END:VEVENT
BEGIN:VEVENT
DTSTART;TZID=America/Sao_Paulo:20250515T000000
DTEND;TZID=America/Sao_Paulo:20250515T000000
DTSTAMP:20260423T131047
CREATED:20250721T150801Z
LAST-MODIFIED:20251124T192228Z
UID:32756-1747267200-1747267200@advbsc.com.br
SUMMARY:ADVB Academy
DESCRIPTION:
URL:https://advbsc.com.br/agenda/advb-academy/
LOCATION:Faculdade Estácio – São José\, São José\, Santa Catarina\, Brazil
END:VEVENT
BEGIN:VEVENT
DTSTART;TZID=America/Sao_Paulo:20250508T000000
DTEND;TZID=America/Sao_Paulo:20250508T000000
DTSTAMP:20260423T131047
CREATED:20250721T150639Z
LAST-MODIFIED:20251124T192302Z
UID:32754-1746662400-1746662400@advbsc.com.br
SUMMARY:Data final de inscrições de cases do Prêmio Empresa Cidadã
DESCRIPTION:
URL:https://advbsc.com.br/agenda/data-final-de-inscricoes-de-cases-do-premio-empresa-cidada/
LOCATION:SC
END:VEVENT
BEGIN:VEVENT
DTSTART;TZID=America/Sao_Paulo:20250402T000000
DTEND;TZID=America/Sao_Paulo:20250409T000000
DTSTAMP:20260423T131047
CREATED:20250721T150533Z
LAST-MODIFIED:20251124T192331Z
UID:32751-1743552000-1744156800@advbsc.com.br
SUMMARY:Prêmio Personalidade de Vendas
DESCRIPTION:
URL:https://advbsc.com.br/agenda/premio-personalidade-de-vendas-2/
LOCATION:Etapa de votação entre os 5 mais indicados na etapa anterior\, Brazil
END:VEVENT
BEGIN:VEVENT
DTSTART;TZID=America/Sao_Paulo:20250326T000000
DTEND;TZID=America/Sao_Paulo:20250326T000000
DTSTAMP:20260423T131047
CREATED:20250721T150412Z
LAST-MODIFIED:20251124T192403Z
UID:32748-1742947200-1742947200@advbsc.com.br
SUMMARY:Encontro de Ideias especial mês das mulheres
DESCRIPTION:
URL:https://advbsc.com.br/agenda/encontro-de-ideias-especial-mes-das-mulheres/
LOCATION:Jazzinn Gastrobar – Florianópolis\, Florianópolis\, Brazil
END:VEVENT
BEGIN:VEVENT
DTSTART;TZID=America/Sao_Paulo:20250318T000000
DTEND;TZID=America/Sao_Paulo:20250331T000000
DTSTAMP:20260423T131047
CREATED:20250721T150254Z
LAST-MODIFIED:20251124T192437Z
UID:32745-1742256000-1743379200@advbsc.com.br
SUMMARY:Prêmio Personalidade de Vendas
DESCRIPTION:
URL:https://advbsc.com.br/agenda/premio-personalidade-de-vendas/
LOCATION:Etapa de indicações pelo colegiado\, Brazil
END:VEVENT
BEGIN:VEVENT
DTSTART;TZID=America/Sao_Paulo:20250221T000000
DTEND;TZID=America/Sao_Paulo:20250221T000000
DTSTAMP:20260423T131047
CREATED:20250721T150055Z
LAST-MODIFIED:20251124T192524Z
UID:32743-1740096000-1740096000@advbsc.com.br
SUMMARY:Encontro de Ideias com Pedro Reis\, Ministro da Economia de Portugal
DESCRIPTION:
URL:https://advbsc.com.br/agenda/encontro-de-ideias-com-pedro-reis-ministro-da-economia-de-portugal/
LOCATION:FIESC – Florianópolis\, FIESC\, Florianópolis\, SC\, Brazil
END:VEVENT
END:VCALENDAR